BEGIN:VCALENDAR
VERSION:2.0
PRODID:-//Tukios.com/
BEGIN:VEVENT
UID:e18f37c5-1ba3-4709-92d5-182c0778b82b@www.craigfunerals.com
DTSTAMP:20260420T043746Z
DTSTART:20260424T160000Z
DTEND:20260424T170000Z
SUMMARY:Celebration of Life
DESCRIPTION:
URL:https://www.craigfunerals.com/obituaries/donald-farlin
LOCATION:Minden Evangelical Free Church 1310 West 1st Street  Minden NE 
	68959
GEO:40.4964312;-98.9684088
END:VEVENT
END:VCALENDAR