BEGIN:VCALENDAR
VERSION:2.0
PRODID:-//Tukios.com/
BEGIN:VEVENT
UID:452e56a4-9fa2-4a51-8ed4-e0af9dd4b6e5@www.craigfunerals.com
DTSTAMP:20260419T225527Z
DTSTART:20260427T160000Z
DTEND:20260427T170000Z
SUMMARY:Celebration of Life
DESCRIPTION:
URL:https://www.craigfunerals.com/obituaries/larry-taylor
LOCATION: 109 North Colorado Avenue  Minden NE 68959
GEO:40.4961019;-98.9496339
END:VEVENT
END:VCALENDAR