BEGIN:VCALENDAR
VERSION:2.0
PRODID:-//Tukios.com/
BEGIN:VEVENT
UID:555102d8-fc04-4da5-902d-acb3820f0f73@www.craigfunerals.com
DTSTAMP:20260419T225451Z
DTSTART:20260425T210000Z
DTEND:20260425T230000Z
SUMMARY:Visitation
DESCRIPTION:
URL:https://www.craigfunerals.com/obituaries/larry-taylor
LOCATION:Craig Funeral Home 336 N Nebraska Ave  Minden NE 68959
GEO:40.4981316;-98.9500468
END:VEVENT
END:VCALENDAR